BEGIN:VCALENDAR
VERSION:2.0
PRODID:-//Harmonic Healing Arts - ECPv6.15.20//NONSGML v1.0//EN
CALSCALE:GREGORIAN
METHOD:PUBLISH
X-ORIGINAL-URL:https://www.harmonichealingarts.com
X-WR-CALDESC:Events for Harmonic Healing Arts
REFRESH-INTERVAL;VALUE=DURATION:PT1H
X-Robots-Tag:noindex
X-PUBLISHED-TTL:PT1H
BEGIN:VTIMEZONE
TZID:America/Phoenix
BEGIN:STANDARD
TZOFFSETFROM:-0700
TZOFFSETTO:-0700
TZNAME:MST
DTSTART:20200101T000000
END:STANDARD
END:VTIMEZONE
BEGIN:VEVENT
DTSTART;TZID=America/Phoenix:20211003T100000
DTEND;TZID=America/Phoenix:20211003T110000
DTSTAMP:20260421T212128
CREATED:20210920T231121Z
LAST-MODIFIED:20210920T231121Z
UID:2445-1633255200-1633258800@www.harmonichealingarts.com
SUMMARY:Online Meditation 10/3/21
DESCRIPTION:Online sound healing meditation with gongs\, crystal bowls\, Tibetan bowls\, and chimes on Zoom.\n \nZoom Meeting ID: 590 618 9456\nPassword: 223770 \nLove offering accepted but not required. Register with the link below.
URL:https://www.harmonichealingarts.com/events/online-meditation-10-3-21/
LOCATION:Zoom Meditations
CATEGORIES:Online Meditation
ATTACH;FMTTYPE=image/jpeg:https://www.harmonichealingarts.com/wp-content/uploads/2020/08/Online-Meditation-scaled.jpeg
ORGANIZER;CN="Harmonic Healing Arts":MAILTO:harmonichealingdfw@gmail.com
END:VEVENT
BEGIN:VEVENT
DTSTART;TZID=America/Phoenix:20210718T100000
DTEND;TZID=America/Phoenix:20210718T110000
DTSTAMP:20260421T212128
CREATED:20210704T211045Z
LAST-MODIFIED:20210704T211045Z
UID:2135-1626602400-1626606000@www.harmonichealingarts.com
SUMMARY:Online Meditation 7/18/21
DESCRIPTION:Online sound healing meditation with gongs\, crystal bowls\, Tibetan bowls\, and chimes on Zoom.\n \nZoom Meeting ID: 590 618 9456\nPassword: 223770 \nLove offering accepted but not required. Register with the link below.
URL:https://www.harmonichealingarts.com/events/online-meditation-7-18-21/
LOCATION:Zoom Meditations
CATEGORIES:Online Meditation
ATTACH;FMTTYPE=image/jpeg:https://www.harmonichealingarts.com/wp-content/uploads/2020/08/Online-Meditation-scaled.jpeg
ORGANIZER;CN="Harmonic Healing Arts":MAILTO:harmonichealingdfw@gmail.com
END:VEVENT
BEGIN:VEVENT
DTSTART;TZID=America/Phoenix:20210523T100000
DTEND;TZID=America/Phoenix:20210523T110000
DTSTAMP:20260421T212128
CREATED:20210501T232802Z
LAST-MODIFIED:20210501T232802Z
UID:1982-1621764000-1621767600@www.harmonichealingarts.com
SUMMARY:Online Meditation 5/23/21
DESCRIPTION:Online sound healing meditation with crystal bowls\, Tibetan bowls\, and chimes on Zoom.\n \nZoom Meeting ID: 590 618 9456\nPassword: 223770 \nLove offering accepted but not required. Register with the link below.
URL:https://www.harmonichealingarts.com/events/online-meditation-5-23-21/
LOCATION:Zoom Meditations
CATEGORIES:Online Meditation
ATTACH;FMTTYPE=image/jpeg:https://www.harmonichealingarts.com/wp-content/uploads/2020/08/Online-Meditation-scaled.jpeg
ORGANIZER;CN="Harmonic Healing Arts":MAILTO:harmonichealingdfw@gmail.com
END:VEVENT
END:VCALENDAR